Workbook

Sheet Menu

Sheet Tenda - Operacional
A6: DESTAQUES OPERACIONAIS
A7: (em R$ milhões) | B7: 2T26 | C7: 1T26 | D7: 2025 | E7: 4T25 | F7: 3T25 | G7: 2T25 | H7: 1T25 | I7: 2024 | J7: 4T24 | K7: 3T24 | L7: 2T24 | M7: 1T24 | N7: 2023 | O7: 4T23 | P7: 3T23 | Q7: 2T23 | R7: 1T23 | S7: 2022 | T7: 4T22 | U7: 3T22 | V7: 2T22 | W7: 1T22 | X7: 2021 | Y7: 4T21 | Z7: 3T21 | AA7: 2T21 | AB7: 1T21 | AC7: 2020 | AD7: 4T20 | AE7: 3T20 | AF7: 2T20 | AG7: 1T20 | AH7: 2019 | AI7: 4T19 | AJ7: 3T19 | AK7: 2T19 | AL7: 1T19 | AM7: 2018 | AN7: 4T18 | AO7: 3T18 | AP7: 2T18 | AQ7: 1T18 | AR7: 2017 | AS7: 4T17 | AT7: 3T17 | AU7: 2T17 | AV7: 1T17 | AW7: 2016 | AX7: 4T16 | AY7: 3T16 | AZ7: 2T16 | BA7: 1T16 | BB7: 2015 | BC7: 4T15 | BD7: 3T15 | BE7: 2T15 | BF7: 1T15 | BG7: 2014 | BH7: 4T14 | BI7: 3T14 | BJ7: 2T14 | BK7: 1T14 | BL7: 2013 | BM7: 4T13 | BN7: 3T13 | BO7: 2T13 | BP7: 1T13 | BQ7: 2012 | BR7: 4T12 | BS7: 3T12 | BT7: 2T12 | BU7: 1T12 | BV7: 2011 | BW7: 4T11 | BX7: 3T11 | BY7: 2T11 | BZ7: 1T11
A8: Destaques Operacionais (R$ milhões, VGV)
A9: Lançamentos | B9: ='Consolidado - Operacional'!B9-'Alea - Operacional'!B9 -> 1680.9171 | C9: ='Consolidado - Operacional'!C9-'Alea - Operacional'!C9 -> 1414.4643 | D9: ='Consolidado - Operacional'!D9-'Alea - Operacional'!D9 -> 5099.9102 | E9: ='Consolidado - Operacional'!E9-'Alea - Operacional'!E9 -> 1705.9281 | F9: ='Consolidado - Operacional'!F9-'Alea - Operacional'!F9 -> 1486.7271 | G9: ='Consolidado - Operacional'!G9-'Alea - Operacional'!G9 -> 1088.7786 | H9: ='Consolidado - Operacional'!H9-'Alea - Operacional'!H9 -> 818.47643 | I9: ='Consolidado - Operacional'!I9-'Alea - Operacional'!I9 -> 4903.15 | ... BZ9: ='Consolidado - Operacional'!BZ9-'Alea - Operacional'!BZ9 -> 102.4
A10: Vendas Líquidas | B10: ='Consolidado - Operacional'!B10-'Alea - Operacional'!B10 -> 1318.0564 | C10: ='Consolidado - Operacional'!C10-'Alea - Operacional'!C10 -> 1427.9689 | D10: ='Consolidado - Operacional'!D10-'Alea - Operacional'!D10 -> 4242.9044 | E10: ='Consolidado - Operacional'!E10-'Alea - Operacional'!E10 -> 1104.4221 | F10: ='Consolidado - Operacional'!F10-'Alea - Operacional'!F10 -> 1098.7173 | G10: ='Consolidado - Operacional'!G10-'Alea - Operacional'!G10 -> 1051.3756 | H10: ='Consolidado - Operacional'!H10-'Alea - Operacional'!H10 -> 988.38943 | I10: ='Consolidado - Operacional'!I10-'Alea - Operacional'!I10 -> 4183.4543 | ... BZ10: ='Consolidado - Operacional'!BZ10-'Alea - Operacional'!BZ10 -> 227.8
A11: VSO Líquida (%) | B11: 0.23857792 | C11: 0.26887288 | D11: 0.52898009 | E11: 0.22620323 | F11: 0.25799145 | G11: 0.27699568 | H11: 0.27023508 | I11: 0.59742092 | J11: 0.24725879 | K11: 0.37766371 | L11: 0.32653384 | M11: 0.31218192 | N11: . 58,3% | O11: 0.269 | P11: 0.306 | Q11: 0.262 | R11: 0.244 | S11: 0.543 | T11: 0.256 | U11: 0.211 | V11: 0.232 | W11: 0.265 | X11: 0.651 | Y11: 0.319 | Z11: 0.329 | AA11: 0.342 | AB11: 0.315 | AC11: 0.608 | AD11: 0.325 | AE11: 0.323 | AF11: 0.304 | AG11: 0.255 | AH11: 0.563 | AI11: 0.28 | AJ11: 0.28 | AK11: 0.289 | AL11: 0.275 | AM11: 0.618 | AN11: 0.286 | AO11: 0.315 | AP11: 0.333 | AQ11: 0.291 | AR11: 0.567 | AS11: 0.269 | AT11: 0.247 | AU11: 0.262 | AV11: 0.243 | AW11: 0.513 | AX11: 0.223 | AY11: 0.188 | AZ11: 0.264 | BA11: 0.239 | BB11: 0.53 | BC11: 0.209 | BD11: 0.23 | BE11: 0.282 | BF11: 0.233 | BG11: 0.323 | BH11: 0.133 | BI11: 0.048 | BJ11: 0.208 | BK11: 0.064 | BL11: 0.442 | BM11: 0.209 | BN11: 0.174 | BO11: 0.2 | BP11: 0.009 | BQ11: -0.099 | BR11: -0.037 | BS11: 0.038 | BT11: 0.018 | BU11: -0.11 | BV11: 0.22 | BW11: -0.23 | BX11: 0.091 | BY11: 0.176 | BZ11: 0.21
A12: Unidades Entregues (#) | B12: ='Consolidado - Operacional'!B12-'Alea - Operacional'!B12 -> 3708 | C12: ='Consolidado - Operacional'!C12-'Alea - Operacional'!C12 -> 4625 | D12: ='Consolidado - Operacional'!D12-'Alea - Operacional'!D12 -> 18190 | E12: ='Consolidado - Operacional'!E12-'Alea - Operacional'!E12 -> 5261 | F12: ='Consolidado - Operacional'!F12-'Alea - Operacional'!F12 -> 4780 | G12: ='Consolidado - Operacional'!G12-'Alea - Operacional'!G12 -> 1948 | H12: ='Consolidado - Operacional'!H12-'Alea - Operacional'!H12 -> 6201 | I12: ='Consolidado - Operacional'!I12-'Alea - Operacional'!I12 -> 15710 | ... BZ12: ='Consolidado - Operacional'!BZ12-'Alea - Operacional'!BZ12 -> 1138
A13: Banco de Terrenos | B13: ='Consolidado - Operacional'!B13-'Alea - Operacional'!B13 -> 27667.926 | C13: ='Consolidado - Operacional'!C13-'Alea - Operacional'!C13 -> 23001.774 | D13: ='Consolidado - Operacional'!D13-'Alea - Operacional'!D13 -> 22509.325 | E13: ='Consolidado - Operacional'!E13-'Alea - Operacional'!E13 -> 22509.325 | F13: ='Consolidado - Operacional'!F13-'Alea - Operacional'!F13 -> 20711.191 | G13: ='Consolidado - Operacional'!G13-'Alea - Operacional'!G13 -> 20483.12 | H13: ='Consolidado - Operacional'!H13-'Alea - Operacional'!H13 -> 18276.901 | I13: ='Consolidado - Operacional'!I13-'Alea - Operacional'!I13 -> 17972.016 | ... BZ13: ='Consolidado - Operacional'!BZ13-'Alea - Operacional'!BZ13 -> 4547.5
A14: Estoque a Valor de Mercado | B14: ='Consolidado - Operacional'!B14-'Alea - Operacional'!B14 -> 4206.5807 | C14: ='Consolidado - Operacional'!C14-'Alea - Operacional'!C14 -> 3882.9755 | D14: ='Consolidado - Operacional'!D14-'Alea - Operacional'!D14 -> 3778.0108 | E14: ='Consolidado - Operacional'!E14-'Alea - Operacional'!E14 -> 3778.0108 | F14: ='Consolidado - Operacional'!F14-'Alea - Operacional'!F14 -> 3160.018 | G14: ='Consolidado - Operacional'!G14-'Alea - Operacional'!G14 -> 2744.2635 | H14: ='Consolidado - Operacional'!H14-'Alea - Operacional'!H14 -> 2669.1277 | I14: ='Consolidado - Operacional'!I14-'Alea - Operacional'!I14 -> 2819.0696 | ... BZ14: ='Consolidado - Operacional'!BZ14-'Alea - Operacional'!BZ14 -> 856.2
A16: LANÇAMENTOS¹
A17: Lançamentos¹ | B17: 2T26 | C17: 1T26 | D17: 2025 | E17: 4T25 | F17: 3T25 | G17: =G7 -> 2T25 | H17: =H7 -> 1T25 | I17: =I7 -> 2024 | J17: =J7 -> 4T24 | K17: =K7 -> 3T24 | L17: =L7 -> 2T24 | M17: =M7 -> 1T24 | N17: =N7 -> 2023 | ... BZ17: =BZ7 -> 1T11
A18: Número de Empreendimentos | B18: ='Consolidado - Operacional'!B18-'Alea - Operacional'!B18 -> 14 | C18: ='Consolidado - Operacional'!C18-'Alea - Operacional'!C18 -> 13 | D18: ='Consolidado - Operacional'!D18-'Alea - Operacional'!D18 -> 45 | E18: ='Consolidado - Operacional'!E18-'Alea - Operacional'!E18 -> 14 | F18: ='Consolidado - Operacional'!F18-'Alea - Operacional'!F18 -> 12 | G18: ='Consolidado - Operacional'!G18-'Alea - Operacional'!G18 -> 9 | H18: ='Consolidado - Operacional'!H18-'Alea - Operacional'!H18 -> 10 | I18: ='Consolidado - Operacional'!I18-'Alea - Operacional'!I18 -> 49 | ... BZ18: ='Consolidado - Operacional'!BZ18-'Alea - Operacional'!BZ18 -> 5
A19: VGV (R$ milhões) | B19: ='Consolidado - Operacional'!B19-'Alea - Operacional'!B19 -> 1680.9171 | C19: ='Consolidado - Operacional'!C19-'Alea - Operacional'!C19 -> 1414.4643 | D19: ='Consolidado - Operacional'!D19-'Alea - Operacional'!D19 -> 5099.9102 | E19: ='Consolidado - Operacional'!E19-'Alea - Operacional'!E19 -> 1705.9281 | F19: ='Consolidado - Operacional'!F19-'Alea - Operacional'!F19 -> 1486.7271 | G19: ='Consolidado - Operacional'!G19-'Alea - Operacional'!G19 -> 1088.7786 | H19: ='Consolidado - Operacional'!H19-'Alea - Operacional'!H19 -> 818.47643 | I19: ='Consolidado - Operacional'!I19-'Alea - Operacional'!I19 -> 4903.15 | ... BZ19: ='Consolidado - Operacional'!BZ19-'Alea - Operacional'!BZ19 -> 102.4
A20: Número de unidades | B20: ='Consolidado - Operacional'!B20-'Alea - Operacional'!B20 -> 6715 | C20: ='Consolidado - Operacional'!C20-'Alea - Operacional'!C20 -> 6083 | D20: ='Consolidado - Operacional'!D20-'Alea - Operacional'!D20 -> 22138 | E20: ='Consolidado - Operacional'!E20-'Alea - Operacional'!E20 -> 7146 | F20: ='Consolidado - Operacional'!F20-'Alea - Operacional'!F20 -> 6343 | G20: ='Consolidado - Operacional'!G20-'Alea - Operacional'!G20 -> 5016 | H20: ='Consolidado - Operacional'!H20-'Alea - Operacional'!H20 -> 3633 | I20: ='Consolidado - Operacional'!I20-'Alea - Operacional'!I20 -> 22404 | ... BZ20: ='Consolidado - Operacional'!BZ20-'Alea - Operacional'!BZ20 -> 650
A21: Preço médio por unidade (R$ mil) | B21: 250.32273 | C21: 232.52741 | D21: 230.36906 | E21: 238.72489 | F21: 234.38863 | G21: 217.06113 | H21: 225.28941 | I21: 218.85155 | J21: 219.36045 | K21: 215.26275 | L21: 226.46676 | M21: 219.80007 | N21: 205.8783 | O21: 216.03323 | P21: 198.8879 | Q21: 208.55582 | R21: 192.01797 | S21: 197.21591 | T21: 202.17889 | U21: 210.18145 | V21: 201.13146 | W21: 176.28479 | X21: 149.42392 | Y21: 147.85126 | Z21: 148.86994 | AA21: 150.98135 | AB21: 149.69053 | AC21: 147.08587 | AD21: 144.26917 | AE21: 155.59763 | AF21: 138.81455 | AG21: 147.9779 | AH21: 143.90827 | AI21: 139.95928 | AJ21: 145.88444 | AK21: 145.44656 | AL21: 146.57104 | AM21: 140.26725 | AN21: 148.54772 | AO21: 138.6229 | AP21: 133.0397 | AQ21: 143.80324 | AR21: 144.04889 | AS21: 140.25233 | AT21: 144.14157 | AU21: 146.256 | AV21: 146.64937 | AW21: 137.28048 | AX21: 138.11628 | AY21: 129.69019 | AZ21: 146.11615 | BA21: 132.56601 | BB21: 141.21917 | BC21: 140.609 | BD21: 144.33678 | BE21: 135.55911 | BF21: 143.24185 | BG21: 142.10892 | BH21: 145.48193 | BI21: 140.03067 | BJ21: 143.27062 | BK21: 138.2622 | BL21: 137.72358 | BM21: 147.33333 | BN21: 172.66667 | BO21: 137.91667 | BP21: 111.47059 | BQ21: 0 | BR21: 0 | BS21: 0 | BT21: 0 | BU21: 0 | BV21: 103.40525 | BW21: 0 | BX21: 151.54321 | BY21: 85.729203 | BZ21: 157.53846
A22: Tamanho médio dos lançamentos (em unidades) | B22: 479.64286 | C22: 467.92308 | D22: 491.95556 | E22: 510.42857 | F22: 528.58333 | G22: 557.33333 | H22: 363.3 | I22: 457.22449 | J22: 442.71429 | K22: 451 | L22: 407.22222 | M22: 341.44444 | N22: 370 | O22: 353.30769 | P22: 418 | Q22: 372 | R22: 333 | S22: 356 | T22: 348.3 | U22: 358 | V22: 382.4 | W22: 331 | X22: 354 | Y22: 332.70588 | Z22: 387.09091 | AA22: 343.57895 | AB22: 408 | AC22: 329 | AD22: 307 | AE22: 372 | AF22: 324 | AG22: 280 | AH22: 284 | AI22: 271 | AJ22: 290 | AK22: 313 | AL22: 263 | AM22: 278 | AN22: 298 | AO22: 297 | AP22: 270 | AQ22: 232 | AR22: 262 | AS22: 272 | AT22: 261 | AU22: 254 | AV22: 258 | AW22: 239 | AX22: 251 | AY22: 279 | AZ22: 237 | BA22: 192 | BB22: 257 | BC22: 220 | BD22: 264 | BE22: 282 | BF22: 277 | BG22: 308 | BH22: 277 | BI22: 326 | BJ22: 346 | BK22: 328 | BL22: 351 | BM22: 300 | BN22: 300 | BO22: 240 | BP22: 510 | BQ22: 0 | BR22: 0 | BS22: 0 | BT22: 0 | BU22: 0 | BV22: 240 | BW22: 0 | BX22: 162 | BY22: 319 | BZ22: 130
A23: 1) Os projetos lançados no Novo Modelo de negócios possuem 100% de participação societária da Tenda.
A25: VENDAS E DISTRATOS
A26: (VGV, R$ milhões) | B26: 2T26 | C26: 1T26 | D26: 2025 | E26: 4T25 | F26: 3T25 | G26: =G7 -> 2T25 | H26: =H7 -> 1T25 | I26: =I7 -> 2024 | J26: =J7 -> 4T24 | K26: =K7 -> 3T24 | L26: =L7 -> 2T24 | M26: =M7 -> 1T24 | N26: =N7 -> 2023 | ... BZ26: =BZ7 -> 1T11
A27: Vendas Brutas | B27: ='Consolidado - Operacional'!B27-'Alea - Operacional'!B27 -> 1507.0329 | C27: ='Consolidado - Operacional'!C27-'Alea - Operacional'!C27 -> 1579.4046 | D27: ='Consolidado - Operacional'!D27-'Alea - Operacional'!D27 -> 4748.9919 | E27: ='Consolidado - Operacional'!E27-'Alea - Operacional'!E27 -> 1232.9826 | F27: ='Consolidado - Operacional'!F27-'Alea - Operacional'!F27 -> 1234.9312 | G27: ='Consolidado - Operacional'!G27-'Alea - Operacional'!G27 -> 1186.85 | H27: ='Consolidado - Operacional'!H27-'Alea - Operacional'!H27 -> 1094.2281 | I27: ='Consolidado - Operacional'!I27-'Alea - Operacional'!I27 -> 4587.8674 | ... BZ27: ='Consolidado - Operacional'!BZ27-'Alea - Operacional'!BZ27 -> 0
A28: VSO Bruto | B28: 0.273 | C28: 0.297 | D28: 0.592 | E28: 0.253 | F28: 0.29 | G28: 0.313 | H28: 0.299 | I28: 0.655 | J28: 0.278 | K28: 0.405 | L28: 0.36 | M28: 0.34325023 | N28: 0.682 | O28: 0.308 | P28: 0.35555471 | Q28: 0.30858593 | R28: 0.29771365 | S28: 0.664 | T28: 0.29212787 | U28: 0.23883383 | V28: 0.29994509 | W28: 0.32734412 | X28: 0.753 | Y28: 0.3703752 | Z28: 0.39445156 | AA28: 0.38318225 | AB28: 0.36403368 | AC28: 0.695 | AD28: 0.3496616 | AE28: 0.36337592 | AF28: 0.36342559 | AG28: 0.31311437 | AH28: 0.618 | AI28: 0.30460785 | AJ28: 0.30771264 | AK28: 0.32278724 | AL28: 0.29891445 | AM28: 0.683 | AN28: 0.31444348 | AO28: 0.34974706 | AP28: 0.36569216 | AQ28: 0.32377554 | AR28: 0.663 | AS28: 0.29607304 | AT28: 0.28446639 | AU28: 0.31312314 | AV28: 0.30451142 | AW28: 0.637 | AX28: 0.28872416 | AY28: 0.25149333 | AZ28: 0.31102395 | BA28: 0.28038476 | BB28: 0.631 | BC28: 0.24386499 | BD28: 0.26945027 | BE28: 0.33424839 | BF28: 0.28639881 | BG28: 0.751 | BH28: 0.202 | BI28: 0.244 | BJ28: 0.343 | BK28: 0.305 | BL28: 0.982 | BM28: 0.305 | BN28: 0.328 | BO28: 0.386 | BP28: 0.307 | BQ28: 1.451 | BR28: 0.312 | BS28: 0.313 | BT28: 0.404 | BU28: 0.302 | BV28: 0 | BW28: 0.261 | BX28: 0 | BY28: 0 | BZ28: 0
A29: Distratos | B29: ='Consolidado - Operacional'!B29-'Alea - Operacional'!B29 -> 188.97646 | C29: ='Consolidado - Operacional'!C29-'Alea - Operacional'!C29 -> 151.43561 | D29: ='Consolidado - Operacional'!D29-'Alea - Operacional'!D29 -> 506.08742 | E29: ='Consolidado - Operacional'!E29-'Alea - Operacional'!E29 -> 128.5605 | F29: ='Consolidado - Operacional'!F29-'Alea - Operacional'!F29 -> 136.2139 | G29: ='Consolidado - Operacional'!G29-'Alea - Operacional'!G29 -> 135.47437 | H29: ='Consolidado - Operacional'!H29-'Alea - Operacional'!H29 -> 105.83865 | I29: ='Consolidado - Operacional'!I29-'Alea - Operacional'!I29 -> 404.41319 | ... BZ29: ='Consolidado - Operacional'!BZ29-'Alea - Operacional'!BZ29 -> 0
A30: Vendas Líquidas | B30: ='Consolidado - Operacional'!B30-'Alea - Operacional'!B30 -> 1318.0564 | C30: ='Consolidado - Operacional'!C30-'Alea - Operacional'!C30 -> 1427.9689 | D30: ='Consolidado - Operacional'!D30-'Alea - Operacional'!D30 -> 4242.9044 | E30: ='Consolidado - Operacional'!E30-'Alea - Operacional'!E30 -> 1104.4221 | F30: ='Consolidado - Operacional'!F30-'Alea - Operacional'!F30 -> 1098.7173 | G30: ='Consolidado - Operacional'!G30-'Alea - Operacional'!G30 -> 1051.3756 | H30: ='Consolidado - Operacional'!H30-'Alea - Operacional'!H30 -> 988.38943 | I30: ='Consolidado - Operacional'!I30-'Alea - Operacional'!I30 -> 4183.4543 | ... BZ30: ='Consolidado - Operacional'!BZ30-'Alea - Operacional'!BZ30 -> 227.8
A31: VSO Líquido | B31: =B11 -> 0.23857792 | C31: =C11 -> 0.26887288 | D31: =D11 -> 0.52898009 | E31: =E11 -> 0.22620323 | F31: =F11 -> 0.25799145 | G31: =G11 -> 0.27699568 | H31: =H11 -> 0.27023508 | I31: =I11 -> 0.59742092 | ... BZ31: =BZ11 -> 0.21
A33: (em unidades) | B33: 2T26 | C33: 1T26 | D33: 2025 | E33: 4T25 | F33: 3T25 | G33: =G7 -> 2T25 | H33: =H7 -> 1T25 | I33: =I7 -> 2024 | J33: =J7 -> 4T24 | K33: =K7 -> 3T24 | L33: =L7 -> 2T24 | M33: =M7 -> 1T24 | N33: =N7 -> 2023 | ... BZ33: =BZ7 -> 1T11
A34: Unidades Vendidas Brutas | B34: ='Consolidado - Operacional'!B34-'Alea - Operacional'!B34 -> 6154 | C34: ='Consolidado - Operacional'!C34-'Alea - Operacional'!C34 -> 6647 | D34: ='Consolidado - Operacional'!D34-'Alea - Operacional'!D34 -> 21342 | E34: ='Consolidado - Operacional'!E34-'Alea - Operacional'!E34 -> 5485 | F34: ='Consolidado - Operacional'!F34-'Alea - Operacional'!F34 -> 5602 | G34: ='Consolidado - Operacional'!G34-'Alea - Operacional'!G34 -> 5310 | H34: ='Consolidado - Operacional'!H34-'Alea - Operacional'!H34 -> 4945 | I34: ='Consolidado - Operacional'!I34-'Alea - Operacional'!I34 -> 21437.75 | ... BZ34: ='Consolidado - Operacional'!BZ34-'Alea - Operacional'!BZ34 -> 0
A35: Unidades Distratadas | B35: ='Consolidado - Operacional'!B35-'Alea - Operacional'!B35 -> 811 | C35: ='Consolidado - Operacional'!C35-'Alea - Operacional'!C35 -> 695 | D35: ='Consolidado - Operacional'!D35-'Alea - Operacional'!D35 -> 2311 | E35: ='Consolidado - Operacional'!E35-'Alea - Operacional'!E35 -> 586 | F35: ='Consolidado - Operacional'!F35-'Alea - Operacional'!F35 -> 617 | G35: ='Consolidado - Operacional'!G35-'Alea - Operacional'!G35 -> 615 | H35: ='Consolidado - Operacional'!H35-'Alea - Operacional'!H35 -> 493 | I35: ='Consolidado - Operacional'!I35-'Alea - Operacional'!I35 -> 1893.6 | ... BZ35: ='Consolidado - Operacional'!BZ35-'Alea - Operacional'!BZ35 -> 0
A36: Unidades Vendidas Líquidas | B36: ='Consolidado - Operacional'!B36-'Alea - Operacional'!B36 -> 5343 | C36: ='Consolidado - Operacional'!C36-'Alea - Operacional'!C36 -> 5952 | D36: ='Consolidado - Operacional'!D36-'Alea - Operacional'!D36 -> 19031 | E36: ='Consolidado - Operacional'!E36-'Alea - Operacional'!E36 -> 4899 | F36: ='Consolidado - Operacional'!F36-'Alea - Operacional'!F36 -> 4985 | G36: ='Consolidado - Operacional'!G36-'Alea - Operacional'!G36 -> 4695 | H36: ='Consolidado - Operacional'!H36-'Alea - Operacional'!H36 -> 4452 | I36: ='Consolidado - Operacional'!I36-'Alea - Operacional'!I36 -> 19544.15 | ... BZ36: ='Consolidado - Operacional'!BZ36-'Alea - Operacional'!BZ36 -> 1555
A37: Unidades Distratos / Unidades Vendas Brutas | B37: =IFERROR(B35/B34,0) -> 0.13178421 | C37: =IFERROR(C35/C34,0) -> 0.10455845 | D37: =IFERROR(D35/D34,0) -> 0.10828413 | E37: =IFERROR(E35/E34,0) -> 0.10683683 | F37: =IFERROR(F35/F34,0) -> 0.11013924 | G37: =IFERROR(G35/G34,0) -> 0.11581921 | H37: =IFERROR(H35/H34,0) -> 0.099696663 | I37: =IFERROR(I35/I34,0) -> 0.088330165 | ... BZ37: =IFERROR(BZ35/BZ34,0) -> 0
A38: Preço médio por unidade bruta (em R$ mil) | B38: =IFERROR(B27*1000/B34,0) -> 244.88672 | C38: =IFERROR(C27*1000/C34,0) -> 237.61164 | D38: =IFERROR(D27*1000/D34,0) -> 222.5186 | E38: =IFERROR(E27*1000/E34,0) -> 224.79172 | F38: =IFERROR(F27*1000/F34,0) -> 220.44469 | G38: =IFERROR(G27*1000/G34,0) -> 223.51224 | H38: =IFERROR(H27*1000/H34,0) -> 221.27969 | I38: =IFERROR(I27*1000/I34,0) -> 214.00881 | ... BZ38: =IFERROR(BZ27*1000/BZ34,0) -> 0
A39: Preço médio por unidade líquida (em R$ mil) | B39: =IFERROR(B30*1000/B36,0) -> 246.68846 | C39: =IFERROR(C30*1000/C36,0) -> 239.91414 | D39: =IFERROR(D30*1000/D36,0) -> 222.947 | E39: =IFERROR(E30*1000/E36,0) -> 225.43827 | F39: =IFERROR(F30*1000/F36,0) -> 220.40467 | G39: =IFERROR(G30*1000/G36,0) -> 223.93517 | H39: =IFERROR(H30*1000/H36,0) -> 222.0102 | I39: =IFERROR(I30*1000/I36,0) -> 214.05148 | ... BZ39: =IFERROR(BZ30*1000/BZ36,0) -> 146.49518
A40: Preço médio por unidade distratada (em R$ mil) | B40: =IFERROR(B29*1000/B35,0) -> 233.0166 | C40: =IFERROR(C29*1000/C35,0) -> 217.89297 | D40: =IFERROR(D29*1000/D35,0) -> 218.99066 | E40: =IFERROR(E29*1000/E35,0) -> 219.38653 | F40: =IFERROR(F29*1000/F35,0) -> 220.76807 | G40: =IFERROR(G29*1000/G35,0) -> 220.28353 | H40: =IFERROR(H29*1000/H35,0) -> 214.68287 | I40: =IFERROR(I29*1000/I35,0) -> 213.56843 | ... BZ40: =IFERROR(BZ29*1000/BZ35,0) -> 0
A43: REPASSE, ENTREGA E ANDAMENTO
A44: Repasse, Entrega e Andamento | B44: 2T26 | C44: 1T26 | D44: 2025 | E44: 4T25 | F44: 3T25 | G44: =G7 -> 2T25 | H44: =H7 -> 1T25 | I44: =I7 -> 2024 | J44: =J7 -> 4T24 | K44: =K7 -> 3T24 | L44: =L7 -> 2T24 | M44: =M7 -> 1T24 | N44: =N7 -> 2023 | ... BZ44: =BZ7 -> 1T11
A45: VGV Repassado (em R$ milhões) | B45: ='Consolidado - Operacional'!B45-'Alea - Operacional'!B44 -> 1033.2177 | C45: ='Consolidado - Operacional'!C45-'Alea - Operacional'!C44 -> 1024.1058 | D45: ='Consolidado - Operacional'!D45-'Alea - Operacional'!D44 -> 3434.8012 | E45: ='Consolidado - Operacional'!E45-'Alea - Operacional'!E44 -> 827.56359 | F45: ='Consolidado - Operacional'!F45-'Alea - Operacional'!F44 -> 973.78547 | G45: ='Consolidado - Operacional'!G45-'Alea - Operacional'!G44 -> 914.38897 | H45: ='Consolidado - Operacional'!H45-'Alea - Operacional'!H44 -> 712.29942 | I45: ='Consolidado - Operacional'!I45-'Alea - Operacional'!I44 -> 2698.6999 | ... BZ45: ='Consolidado - Operacional'!BZ45-'Alea - Operacional'!BZ44 -> 124.8
A46: Unidades Repassadas | B46: ='Consolidado - Operacional'!B46-'Alea - Operacional'!B45 -> 5214 | C46: ='Consolidado - Operacional'!C46-'Alea - Operacional'!C45 -> 5436 | D46: ='Consolidado - Operacional'!D46-'Alea - Operacional'!D45 -> 18922 | E46: ='Consolidado - Operacional'!E46-'Alea - Operacional'!E45 -> 4591 | F46: ='Consolidado - Operacional'!F46-'Alea - Operacional'!F45 -> 5336 | G46: ='Consolidado - Operacional'!G46-'Alea - Operacional'!G45 -> 4978 | H46: ='Consolidado - Operacional'!H46-'Alea - Operacional'!H45 -> 4017 | I46: ='Consolidado - Operacional'!I46-'Alea - Operacional'!I45 -> 15573.1 | ... BZ46: ='Consolidado - Operacional'!BZ46-'Alea - Operacional'!BZ45 -> 2040
A47: Unidades Entregues | B47: ='Consolidado - Operacional'!B47-'Alea - Operacional'!B46 -> 3708 | C47: ='Consolidado - Operacional'!C47-'Alea - Operacional'!C46 -> 4625 | D47: ='Consolidado - Operacional'!D47-'Alea - Operacional'!D46 -> 18190 | E47: ='Consolidado - Operacional'!E47-'Alea - Operacional'!E46 -> 5261 | F47: ='Consolidado - Operacional'!F47-'Alea - Operacional'!F46 -> 4780 | G47: ='Consolidado - Operacional'!G47-'Alea - Operacional'!G46 -> 1948 | H47: ='Consolidado - Operacional'!H47-'Alea - Operacional'!H46 -> 6201 | I47: ='Consolidado - Operacional'!I47-'Alea - Operacional'!I46 -> 15710 | ... BZ47: ='Consolidado - Operacional'!BZ47-'Alea - Operacional'!BZ46 -> 1138
A48: Obras em andamento | B48: ='Consolidado - Operacional'!B48-'Alea - Operacional'!B47 -> 72 | C48: ='Consolidado - Operacional'!C48-'Alea - Operacional'!C47 -> 71 | D48: ='Consolidado - Operacional'!D48-'Alea - Operacional'!D47 -> 67 | E48: ='Consolidado - Operacional'!E48-'Alea - Operacional'!E47 -> 67 | F48: ='Consolidado - Operacional'!F48-'Alea - Operacional'!F47 -> 74 | G48: ='Consolidado - Operacional'!G48-'Alea - Operacional'!G47 -> 75 | H48: ='Consolidado - Operacional'!H48-'Alea - Operacional'!H47 -> 62 | I48: ='Consolidado - Operacional'!I48-'Alea - Operacional'!I47 -> 70 | ... BZ48: ='Consolidado - Operacional'!BZ48-'Alea - Operacional'!BZ47 -> 0
A50: ESTOQUE A VALOR DE MERCADO
A51: Estoque a Valor de Mercado | B51: 2T26 | C51: 1T26 | D51: 2025 | E51: 4T25 | F51: 3T25 | G51: =G7 -> 2T25 | H51: =H7 -> 1T25 | I51: =I7 -> 2024 | J51: =J7 -> 4T24 | K51: =K7 -> 3T24 | L51: =L7 -> 2T24 | M51: =M7 -> 1T24 | N51: =N7 -> 2023 | ... BZ51: =BZ7 -> 1T11
...

Sheet Tenda - Tenda Financeiro
A6: DESTAQUES FINANCEIROS
A7: (em R$ milhões) | B7: 2T26 | C7: 1T26 | D7: 2025 | E7: 4T25 | F7: 3T25 | G7: 2T25 | H7: 1T25 | I7: 2024 | J7: 4T24 | K7: 3T24 | L7: 2T24 | M7: 1T24 | N7: 2023 | O7: 4T23 | P7: 3T23 | Q7: 2T23 | R7: 1T23 | S7: 2022 | T7: 4T22 | U7: 3T22 | V7: 2T22 | W7: 1T22 | X7: 2021 | Y7: 4T21 | Z7: 3T21 | AA7: 2T21 | AB7: 1T21 | AC7: 2020 | AD7: 4T20 | AE7: 3T20 | AF7: 2T20 | AG7: 1T20 | AH7: 2019 | AI7: 4T19 | AJ7: 3T19 | AK7: 2T19 | AL7: 1T19 | AM7: 2018 | AN7: 4T18 | AO7: 3T18 | AP7: 2T18 | AQ7: 1T18 | AR7: 2017 | AS7: 4T17 | AT7: 3T17 | AU7: 2T17 | AV7: 1T17 | AW7: 2016 | AX7: 4T16 | AY7: 3T16 | AZ7: 2T16 | BA7: 1T16 | BB7: 2015 | BC7: 4T15 | BD7: 3T15 | BE7: 2T15 | BF7: 1T15 | BG7: 2014 | BH7: 4T14 | BI7: 3T14 | BJ7: 2T14 | BK7: 1T14 | BL7: 2013 | BM7: 4T13 | BN7: 3T13 | BO7: 2T13 | BP7: 1T13 | BQ7: 2012 | BR7: 4T12 | BS7: 3T12 | BT7: 2T12 | BU7: 1T12 | BV7: 2011 | BW7: 4T11 | BX7: 3T11 | BY7: 2T11 | BZ7: 1T11
A8: Destaques Financeiros (R$ milhões)
A9: Receita Líquida | B9: ='Consolidado - Financeiro'!B9-'Alea - Financeiro'!B9 -> 1204.9426 | C9: ='Consolidado - Financeiro'!C9-'Alea - Financeiro'!C9 -> 1111.9233 | D9: ='Consolidado - Financeiro'!D9-'Alea - Financeiro'!D9 -> 3820 | E9: ='Consolidado - Financeiro'!E9-'Alea - Financeiro'!E9 -> 1099.8 | F9: ='Consolidado - Financeiro'!F9-'Alea - Financeiro'!F9 -> 1039.8571 | G9: ='Consolidado - Financeiro'!G9-'Alea - Financeiro'!G9 -> 892.2859 | H9: ='Consolidado - Financeiro'!H9-'Alea - Financeiro'!H9 -> 787.98524 | I9: ='Consolidado - Financeiro'!I9-'Alea - Financeiro'!I9 -> 3023.1216 | ... BZ9: ='Consolidado - Financeiro'!BZ9-'Alea - Financeiro'!BZ9 -> 234
A10: Lucro Bruto Ajustado¹ | B10: ='Consolidado - Financeiro'!B10-'Alea - Financeiro'!B10 -> 480.85556 | C10: ='Consolidado - Financeiro'!C10-'Alea - Financeiro'!C10 -> 421.51281 | D10: ='Consolidado - Financeiro'!D10-'Alea - Financeiro'!D10 -> 1356.2 | E10: ='Consolidado - Financeiro'!E10-'Alea - Financeiro'!E10 -> 398.5 | F10: ='Consolidado - Financeiro'!F10-'Alea - Financeiro'!F10 -> 358.79766 | G10: ='Consolidado - Financeiro'!G10-'Alea - Financeiro'!G10 -> 313.09999 | H10: ='Consolidado - Financeiro'!H10-'Alea - Financeiro'!H10 -> 285.76614 | I10: ='Consolidado - Financeiro'!I10-'Alea - Financeiro'!I10 -> 959.17088 | ... BZ10: ='Consolidado - Financeiro'!BZ10-'Alea - Financeiro'!BZ10 -> 12.9
A11: Margem Bruta Ajustada¹ (%) | B11: =B10/B9 -> 0.39906926 | C11: =C10/C9 -> 0.37908442 | D11: =D10/D9 -> 0.35502618 | E11: =E10/E9 -> 0.36233861 | F11: =F10/F9 -> 0.34504518 | G11: =G10/G9 -> 0.35089648 | H11: =H10/H9 -> 0.36265418 | I11: =I10/I9 -> 0.3172783 | ... BZ11: =BZ10/BZ9 -> 0.055128205
A12: Margem Bruta Ajustada¹ (Sem Pode Entrar + outros) (%) | B12: 0.4035222 | C12: 0.38506923 | D12: 0.368 | E12: 0.374 | F12: 0.36402163 | G12: 0.36503584 | H12: 0.36674799 | I12: 0.32656596 | J12: 0.36216122 | K12: =K11 -> 0.34136717 | L12: =L11 -> 0.31480066 | M12: =M11 -> 0.2848224 | N12: =N11 -> 0.25113514 | O12: =O11 -> 0.2695111 | P12: =P11 -> 0.25021272 | Q12: =Q11 -> 0.23510085 | R12: =R11 -> 0.24863711 | ... BZ12: =BZ11 -> 0.055128205
A13: EBITDA Ajustado² | B13: ='Consolidado - Financeiro'!B13-'Alea - Financeiro'!B12 -> 299.83067 | C13: ='Consolidado - Financeiro'!C13-'Alea - Financeiro'!C12 -> 283.5278 | D13: ='Consolidado - Financeiro'!D13-'Alea - Financeiro'!D12 -> 818.1 | E13: ='Consolidado - Financeiro'!E13-'Alea - Financeiro'!E12 -> 235.4 | F13: ='Consolidado - Financeiro'!F13-'Alea - Financeiro'!F12 -> 222.86352 | G13: ='Consolidado - Financeiro'!G13-'Alea - Financeiro'!G12 -> 190.06356 | H13: ='Consolidado - Financeiro'!H13-'Alea - Financeiro'!H12 -> 169.77663 | I13: ='Consolidado - Financeiro'!I13-'Alea - Financeiro'!I12 -> 536.02187 | ... BZ13: ='Consolidado - Financeiro'!BZ13-'Alea - Financeiro'!BZ12 -> -41.2
A14: Margem EBITDA Ajustada² (%) | B14: =B13/B9 -> 0.24883398 | C14: =C13/C9 -> 0.25498863 | D14: =D13/D9 -> 0.2141623 | E14: =E13/E9 -> 0.21403892 | F14: =F13/F9 -> 0.2143213 | G14: =G13/G9 -> 0.21300747 | H14: =H13/H9 -> 0.21545661 | I14: =I13/I9 -> 0.17730741 | ... BZ14: =BZ13/BZ9 -> -0.17606838
A15: Resultado Financeiro Líquido | B15: ='Consolidado - Financeiro'!B15-'Alea - Financeiro'!B14 -> -21.460066 | C15: ='Consolidado - Financeiro'!C15-'Alea - Financeiro'!C14 -> -1.3445324 | D15: ='Consolidado - Financeiro'!D15-'Alea - Financeiro'!D14 -> 11.2 | E15: ='Consolidado - Financeiro'!E15-'Alea - Financeiro'!E14 -> -41.1 | F15: ='Consolidado - Financeiro'!F15-'Alea - Financeiro'!F14 -> -21.696021 | G15: ='Consolidado - Financeiro'!G15-'Alea - Financeiro'!G14 -> 94.715874 | H15: ='Consolidado - Financeiro'!H15-'Alea - Financeiro'!H14 -> -20.680111 | I15: ='Consolidado - Financeiro'!I15-'Alea - Financeiro'!I14 -> -169.82449 | ... BZ15: ='Consolidado - Financeiro'!BZ15-'Alea - Financeiro'!BZ14 -> 2.2
A16: Lucro Líquido (Prejuízo)³ | B16: ='Consolidado - Financeiro'!B16-'Alea - Financeiro'!B15 -> 208.95693 | C16: ='Consolidado - Financeiro'!C16-'Alea - Financeiro'!C15 -> 216.21724 | D16: ='Consolidado - Financeiro'!D16-'Alea - Financeiro'!D15 -> 636.1 | E16: ='Consolidado - Financeiro'!E16-'Alea - Financeiro'!E15 -> 154.8 | F16: ='Consolidado - Financeiro'!F16-'Alea - Financeiro'!F15 -> 146.434 | G16: ='Consolidado - Financeiro'!G16-'Alea - Financeiro'!G15 -> 229.89893 | H16: ='Consolidado - Financeiro'!H16-'Alea - Financeiro'!H15 -> 104.87035 | I16: ='Consolidado - Financeiro'!I16-'Alea - Financeiro'!I15 -> 178.35864 | ... BZ16: ='Consolidado - Financeiro'!BZ16-'Alea - Financeiro'!BZ15 -> -26.2
A17: Caixa e Disponibilidades⁴ | B17: ='Consolidado - Financeiro'!B20-'Alea - Financeiro'!B19 -> 865.439 | C17: ='Consolidado - Financeiro'!C20-'Alea - Financeiro'!C19 -> 1081.3341 | D17: ='Consolidado - Financeiro'!D20-'Alea - Financeiro'!D19 -> 1017.6 | E17: ='Consolidado - Financeiro'!E20-'Alea - Financeiro'!E19 -> 1017.6 | F17: ='Consolidado - Financeiro'!F20-'Alea - Financeiro'!F19 -> 861.369 | G17: ='Consolidado - Financeiro'!G20-'Alea - Financeiro'!G19 -> 729.758 | H17: ='Consolidado - Financeiro'!H20-'Alea - Financeiro'!H19 -> 581.501 | I17: ='Consolidado - Financeiro'!I20-'Alea - Financeiro'!I19 -> 849.321 | ... BZ17: ='Consolidado - Financeiro'!BZ20-'Alea - Financeiro'!BZ19 -> 408.1
A18: Patrimônio Líquido + Minoritários | B18: ='Consolidado - Financeiro'!B23-'Alea - Financeiro'!B20 -> 1534.624 | C18: ='Consolidado - Financeiro'!C23-'Alea - Financeiro'!C20 -> 1371.2225 | D18: ='Consolidado - Financeiro'!D23-'Alea - Financeiro'!D20 -> 1180.1 | E18: ='Consolidado - Financeiro'!E23-'Alea - Financeiro'!E20 -> 1180.1 | F18: ='Consolidado - Financeiro'!F23-'Alea - Financeiro'!F20 -> 1152.428 | G18: ='Consolidado - Financeiro'!G23-'Alea - Financeiro'!G20 -> 1071.815 | H18: ='Consolidado - Financeiro'!H23-'Alea - Financeiro'!H20 -> 1067.182 | I18: ='Consolidado - Financeiro'!I23-'Alea - Financeiro'!I20 -> 956.355 | ... BZ18: ='Consolidado - Financeiro'!BZ23-'Alea - Financeiro'!BZ20 -> 1853
A19: Lucro Líquido (Prejuízo)³ (Últimos 12 meses) | B19: ='Consolidado - Financeiro'!B26-'Alea - Financeiro'!B21 -> 726.48208 | C19: ='Consolidado - Financeiro'!C26-'Alea - Financeiro'!C21 -> 747.42411 | D19: ='Consolidado - Financeiro'!D26-'Alea - Financeiro'!D21 -> 636.1 | E19: ='Consolidado - Financeiro'!E26-'Alea - Financeiro'!E21 -> 636.1 | F19: ='Consolidado - Financeiro'!F26-'Alea - Financeiro'!F21 -> 523.53856 | G19: ='Consolidado - Financeiro'!G26-'Alea - Financeiro'!G21 -> 469.20857 | H19: ='Consolidado - Financeiro'!H26-'Alea - Financeiro'!H21 -> 263.37666 | I19: ='Consolidado - Financeiro'!I26-'Alea - Financeiro'!I21 -> 178.35864 | ... BZ19: ='Consolidado - Financeiro'!BZ26-'Alea - Financeiro'!BZ21 -> 0
A20: NOPAT5 (Últimos 12 meses) | B20: ='Consolidado - Financeiro'!B27-'Alea - Financeiro'!B22 -> 887.79176 | C20: ='Consolidado - Financeiro'!C27-'Alea - Financeiro'!C22 -> 793.8944 | D20: ='Consolidado - Financeiro'!D27-'Alea - Financeiro'!D22 -> 701.2 | E20: ='Consolidado - Financeiro'!E27-'Alea - Financeiro'!E22 -> 701.2 | F20: ='Consolidado - Financeiro'!F27-'Alea - Financeiro'!F22 -> 601.81831 | G20: ='Consolidado - Financeiro'!G27-'Alea - Financeiro'!G22 -> 551.34672 | H20: ='Consolidado - Financeiro'!H27-'Alea - Financeiro'!H22 -> 479.59697 | I20: ='Consolidado - Financeiro'!I27-'Alea - Financeiro'!I22 -> 433.06212 | ... BZ20: ='Consolidado - Financeiro'!BZ27-'Alea - Financeiro'!BZ22 -> 0
A21: 1) Ajustado por juros capitalizados.
A22: 2) Ajustado por juros capitalizados, despesas com planos de ações (não caixa), minoritários e depreciação no COGS. (* Mudança a partir do 1T23)
A23: 3) Ajustado por minoritários.
A24: 4) A Geração de Caixa Operacional é resultado de um cálculo gerencial interno da companhia que não reflete ou compara-se aos números presentes nas DFs.
A25: 5) NOPAT é composto pelo lucro líquido retirando os efeitos do resultado financeiro e juros capitalizados.
A28: RECEITA OPERACIONAL LÍQUIDA
A29: (em R$ milhões) | B29: 2T26 | C29: 1T26 | D29: 2025 | E29: 4T25 | F29: 3T25 | G29: 2T25 | H29: 1T25 | I29: 2024 | J29: 4T24 | K29: =K7 -> 3T24 | L29: =L7 -> 2T24 | M29: =M7 -> 1T24 | N29: =N7 -> 2023 | O29: =O7 -> 4T23 | P29: =P7 -> 3T23 | Q29: =Q7 -> 2T23 | R29: =R7 -> 1T23 | ... BZ29: =BZ7 -> 1T11
A30: Receita Operacional Bruta | B30: ='Consolidado - Financeiro'!B42-'Alea - Financeiro'!B32 -> 1259.996 | C30: ='Consolidado - Financeiro'!C42-'Alea - Financeiro'!C32 -> 1165.7727 | D30: ='Consolidado - Financeiro'!D42-'Alea - Financeiro'!D32 -> 4014.7 | E30: ='Consolidado - Financeiro'!E42-'Alea - Financeiro'!E32 -> 1161 | F30: ='Consolidado - Financeiro'!F42-'Alea - Financeiro'!F32 -> 1086.5433 | G30: ='Consolidado - Financeiro'!G42-'Alea - Financeiro'!G32 -> 931.04555 | H30: ='Consolidado - Financeiro'!H42-'Alea - Financeiro'!H32 -> 836.11935 | I30: ='Consolidado - Financeiro'!I42-'Alea - Financeiro'!I32 -> 3200.9176 | ... BZ30: ='Consolidado - Financeiro'!BZ42-'Alea - Financeiro'!BZ32 -> 252.3
A31: Provisão para devedores duvidosos e distratos | B31: ='Consolidado - Financeiro'!B43-'Alea - Financeiro'!B33 -> -41.183 | C31: ='Consolidado - Financeiro'!C43-'Alea - Financeiro'!C33 -> -40.168 | D31: ='Consolidado - Financeiro'!D43-'Alea - Financeiro'!D33 -> -140.5 | E31: ='Consolidado - Financeiro'!E43-'Alea - Financeiro'!E33 -> -44.9 | F31: ='Consolidado - Financeiro'!F43-'Alea - Financeiro'!F33 -> -32.149 | G31: ='Consolidado - Financeiro'!G43-'Alea - Financeiro'!G33 -> -26.158 | H31: ='Consolidado - Financeiro'!H43-'Alea - Financeiro'!H33 -> -37.216 | I31: ='Consolidado - Financeiro'!I43-'Alea - Financeiro'!I33 -> -154.369 | ... BZ31: ='Consolidado - Financeiro'!BZ43-'Alea - Financeiro'!BZ33 -> 0
A32: Imposto sobre vendas de imóveis e serviços | B32: ='Consolidado - Financeiro'!B44-'Alea - Financeiro'!B34 -> -13.870412 | C32: ='Consolidado - Financeiro'!C44-'Alea - Financeiro'!C34 -> -13.681371 | D32: ='Consolidado - Financeiro'!D44-'Alea - Financeiro'!D34 -> -54.3 | E32: ='Consolidado - Financeiro'!E44-'Alea - Financeiro'!E34 -> -16.1 | F32: ='Consolidado - Financeiro'!F44-'Alea - Financeiro'!F34 -> -14.537205 | G32: ='Consolidado - Financeiro'!G44-'Alea - Financeiro'!G34 -> -12.601644 | H32: ='Consolidado - Financeiro'!H44-'Alea - Financeiro'!H34 -> -10.918116 | I32: ='Consolidado - Financeiro'!I44-'Alea - Financeiro'!I34 -> -23.426978 | ... BZ32: ='Consolidado - Financeiro'!BZ44-'Alea - Financeiro'!BZ34 -> -18.2
A33: Receita Operacional Líquida | B33: ='Consolidado - Financeiro'!B45-'Alea - Financeiro'!B35 -> 1204.9426 | C33: ='Consolidado - Financeiro'!C45-'Alea - Financeiro'!C35 -> 1111.9233 | D33: ='Consolidado - Financeiro'!D45-'Alea - Financeiro'!D35 -> 3820 | E33: ='Consolidado - Financeiro'!E45-'Alea - Financeiro'!E35 -> 1099.8 | F33: ='Consolidado - Financeiro'!F45-'Alea - Financeiro'!F35 -> 1039.8571 | G33: ='Consolidado - Financeiro'!G45-'Alea - Financeiro'!G35 -> 892.2859 | H33: ='Consolidado - Financeiro'!H45-'Alea - Financeiro'!H35 -> 787.98524 | I33: ='Consolidado - Financeiro'!I45-'Alea - Financeiro'!I35 -> 3023.1216 | ... BZ33: ='Consolidado - Financeiro'!BZ45-'Alea - Financeiro'!BZ35 -> 234
A35: LUCRO BRUTO
A36: (em R$ milhões) | B36: 2T26 | C36: 1T26 | D36: 2025 | E36: 4T25 | F36: 3T25 | G36: 2T25 | H36: 1T25 | I36: 2024 | J36: 4T24 | K36: =K7 -> 3T24 | L36: =L7 -> 2T24 | M36: =M7 -> 1T24 | N36: =N7 -> 2023 | O36: =O7 -> 4T23 | P36: =P7 -> 3T23 | Q36: =Q7 -> 2T23 | R36: =R7 -> 1T23 | ... BZ36: =BZ7 -> 1T11
A37: Receita Líquida | B37: ='Consolidado - Financeiro'!B49-'Alea - Financeiro'!B39 -> 1204.9426 | C37: ='Consolidado - Financeiro'!C49-'Alea - Financeiro'!C39 -> 1111.9233 | D37: ='Consolidado - Financeiro'!D49-'Alea - Financeiro'!D39 -> 3820 | E37: ='Consolidado - Financeiro'!E49-'Alea - Financeiro'!E39 -> 1099.8 | F37: ='Consolidado - Financeiro'!F49-'Alea - Financeiro'!F39 -> 1039.8571 | G37: ='Consolidado - Financeiro'!G49-'Alea - Financeiro'!G39 -> 892.2859 | H37: ='Consolidado - Financeiro'!H49-'Alea - Financeiro'!H39 -> 787.98524 | I37: ='Consolidado - Financeiro'!I49-'Alea - Financeiro'!I39 -> 3023.1216 | ... BZ37: ='Consolidado - Financeiro'!BZ49-'Alea - Financeiro'!BZ39 -> 234
A38: Lucro Bruto | B38: ='Consolidado - Financeiro'!B50-'Alea - Financeiro'!B40 -> 461.59135 | C38: ='Consolidado - Financeiro'!C50-'Alea - Financeiro'!C40 -> 402.37948 | D38: ='Consolidado - Financeiro'!D50-'Alea - Financeiro'!D40 -> 1279.8 | E38: ='Consolidado - Financeiro'!E50-'Alea - Financeiro'!E40 -> 380.2 | F38: ='Consolidado - Financeiro'!F50-'Alea - Financeiro'!F40 -> 339.97175 | G38: ='Consolidado - Financeiro'!G50-'Alea - Financeiro'!G40 -> 292.29396 | H38: ='Consolidado - Financeiro'!H50-'Alea - Financeiro'!H40 -> 267.36438 | I38: ='Consolidado - Financeiro'!I50-'Alea - Financeiro'!I40 -> 869.29686 | ... BZ38: ='Consolidado - Financeiro'!BZ50-'Alea - Financeiro'!BZ40 -> 9.8
A39: Margem Bruta | B39: =B38/B37 -> 0.38308161 | C39: =C38/C37 -> 0.361877 | D39: =D38/D37 -> 0.33502618 | E39: =E38/E37 -> 0.34569922 | F39: =F38/F37 -> 0.32694085 | G39: =G38/G37 -> 0.32757882 | H39: =H38/H37 -> 0.33930125 | I39: =I38/I37 -> 0.28754942 | ... BZ39: =BZ38/BZ37 -> 0.041880342
A40: (-) Custos Financeiros | B40: ='Consolidado - Financeiro'!B52-'Alea - Financeiro'!B42 -> 19.264204 | C40: ='Consolidado - Financeiro'!C52-'Alea - Financeiro'!C42 -> 19.133332 | D40: ='Consolidado - Financeiro'!D52-'Alea - Financeiro'!D42 -> 76.3 | E40: ='Consolidado - Financeiro'!E52-'Alea - Financeiro'!E42 -> 18.2 | F40: ='Consolidado - Financeiro'!F52-'Alea - Financeiro'!F42 -> 18.82591 | G40: ='Consolidado - Financeiro'!G52-'Alea - Financeiro'!G42 -> 20.806024 | H40: ='Consolidado - Financeiro'!H52-'Alea - Financeiro'!H42 -> 18.401759 | I40: ='Consolidado - Financeiro'!I52-'Alea - Financeiro'!I42 -> 89.874019 | ... BZ40: ='Consolidado - Financeiro'!BZ52-'Alea - Financeiro'!BZ42 -> 3.2
A41: Lucro Bruto Ajustado¹ | B41: ='Consolidado - Financeiro'!B53-'Alea - Financeiro'!B43 -> 480.85556 | C41: ='Consolidado - Financeiro'!C53-'Alea - Financeiro'!C43 -> 421.51281 | D41: ='Consolidado - Financeiro'!D53-'Alea - Financeiro'!D43 -> 1356.2 | E41: ='Consolidado - Financeiro'!E53-'Alea - Financeiro'!E43 -> 398.5 | F41: ='Consolidado - Financeiro'!F53-'Alea - Financeiro'!F43 -> 358.79766 | G41: ='Consolidado - Financeiro'!G53-'Alea - Financeiro'!G43 -> 313.09999 | H41: ='Consolidado - Financeiro'!H53-'Alea - Financeiro'!H43 -> 285.76614 | I41: ='Consolidado - Financeiro'!I53-'Alea - Financeiro'!I43 -> 959.17088 | ... BZ41: ='Consolidado - Financeiro'!BZ53-'Alea - Financeiro'!BZ43 -> 12.9
A42: Margem Bruta Ajustada | B42: =B41/B37 -> 0.39906926 | C42: =C41/C37 -> 0.37908442 | D42: =D41/D37 -> 0.35502618 | E42: =E41/E37 -> 0.36233861 | F42: =F41/F37 -> 0.34504518 | G42: =G41/G37 -> 0.35089648 | H42: =H41/H37 -> 0.36265418 | I42: =I41/I37 -> 0.3172783 | ... BZ42: =BZ41/BZ37 -> 0.055128205
A43: Lucro Bruto Ajustado¹ (Sem Pode Entrar + outros) | B43: 474.98289 | C43: 415.17762 | D43: 1331.942 | E43: 383.1 | F43: 355.6876 | G43: 309.84013 | H43: 283.33034 | I43: 955.29103 | J43: 251.18914 | K43: =K41 -> 285.82699 | L43: =L41 -> 221.83204 | M43: =M41 -> 196.44287 | N43: =N41 -> 701.933 | O43: =O41 -> 191.27827 | P43: =P41 -> 188.36485 | Q43: =Q41 -> 161.87437 | R43: =R41 -> 160.10349 | ... BZ43: =BZ41 -> 12.9
A44: Margem Bruta Ajustada (%) (Sem Pode Entrar + outros) | B44: =B12 -> 0.4035222 | C44: =C12 -> 0.38506923 | D44: =D12 -> 0.368 | E44: =E12 -> 0.374 | F44: =F12 -> 0.36402163 | G44: =G12 -> 0.36503584 | H44: =H12 -> 0.36674799 | I44: =I12 -> 0.32656596 | ... BZ44: =BZ12 -> 0.055128205
A45: 1) Ajustado por juros capitalizados.
A47: DESPESAS COM VENDAS, GERAIS E ADMINISTRATIVAS (SG&A)
A48: (em R$ milhões) | B48: 2T26 | C48: 1T26 | D48: 2025 | E48: 4T25 | F48: 3T25 | G48: 2T25 | H48: 1T25 | I48: 2024 | J48: 4T24 | K48: =K7 -> 3T24 | L48: =L7 -> 2T24 | M48: =M7 -> 1T24 | N48: =N7 -> 2023 | O48: =O7 -> 4T23 | P48: =P7 -> 3T23 | Q48: =Q7 -> 2T23 | R48: =R7 -> 1T23 | ... BZ48: =BZ7 -> 1T11
A49: Despesas com Vendas | B49: ='Consolidado - Financeiro'!B61-'Alea - Financeiro'!B49 -> -87.10693 | C49: ='Consolidado - Financeiro'!C61-'Alea - Financeiro'!C49 -> -79.351878 | D49: ='Consolidado - Financeiro'!D61-'Alea - Financeiro'!D49 -> -292.4 | E49: ='Consolidado - Financeiro'!E61-'Alea - Financeiro'!E49 -> -87 | F49: ='Consolidado - Financeiro'!F61-'Alea - Financeiro'!F49 -> -77.425096 | G49: ='Consolidado - Financeiro'!G61-'Alea - Financeiro'!G49 -> -68.98124 | H49: ='Consolidado - Financeiro'!H61-'Alea - Financeiro'!H49 -> -59.055441 | I49: ='Consolidado - Financeiro'!I61-'Alea - Financeiro'!I49 -> -252.08961 | ... BZ49: ='Consolidado - Financeiro'!BZ61-'Alea - Financeiro'!BZ49 -> -24
...

Sheet Tenda - DRE
A6: DEMONSTRATIVO DE RESULTADO
A7: (em R$ milhões) | B7: 2T26 | C7: 1T26 | D7: 2025 | E7: 4T25 | F7: 3T25 | G7: 2T25 | H7: 1T25 | I7: 2024 | J7: 4T24 | K7: 3T24 | L7: 2T24 | M7: 1T24 | N7: 2023 | O7: 4T23 | P7: 3T23 | Q7: 2T23 | R7: 1T23 | S7: 2022 | T7: 4T22 | U7: 3T22 | V7: 2T22 | W7: 1T22 | X7: 2021 | Y7: 4T21 | Z7: 3T21 | AA7: 2T21 | AB7: 1T21 | AC7: 2020 | AD7: 4T20 | AE7: 3T20 | AF7: 2T20 | AG7: 1T20 | AH7: 2019 | AI7: 4T19 | AJ7: 3T19 | AK7: 2T19 | AL7: 1T19 | AM7: 2018 | AN7: 4T18 | AO7: 3T18 | AP7: 2T18 | AQ7: 1T18 | AR7: 2017 | AS7: 4T17 | AT7: 3T17 | AU7: 2T17 | AV7: 1T17 | AW7: 2016 | AX7: 4T16 | AY7: 3T16 | AZ7: 2T16 | BA7: 1T16 | BB7: 2015 | BC7: 4T15 | BD7: 3T15 | BE7: 2T15 | BF7: 1T15 | BG7: 2014 | BH7: 4T14 | BI7: 3T14 | BJ7: 2T14 | BK7: 1T14 | BL7: 2013 | BM7: 4T13 | BN7: 3T13 | BO7: 2T13 | BP7: 1T13 | BQ7: 2012 | BR7: 4T12 | BS7: 3T12 | BT7: 2T12 | BU7: 1T12 | BV7: 2011 | BW7: 4T11 | BX7: 3T11 | BY7: 2T11 | BZ7: 1T11
A8: Receita Líquida | B8: ='Consolidado - DRE'!B8-'Alea - DRE'!B8 -> 1204.9426 | C8: ='Consolidado - DRE'!C8-'Alea - DRE'!C8 -> 1111.9233 | D8: ='Consolidado - DRE'!D8-'Alea - DRE'!D8 -> 3820 | E8: ='Consolidado - DRE'!E8-'Alea - DRE'!E8 -> 1099.8 | F8: ='Consolidado - DRE'!F8-'Alea - DRE'!F8 -> 1039.8571 | G8: ='Consolidado - DRE'!G8-'Alea - DRE'!G8 -> 892.2859 | H8: ='Consolidado - DRE'!H8-'Alea - DRE'!H8 -> 787.98524 | I8: ='Consolidado - DRE'!I8-'Alea - DRE'!I8 -> 3023.1216 | ... BZ8: ='Consolidado - DRE'!BZ8-'Alea - DRE'!BZ8 -> 234
A9: Custos Operacionais | B9: ='Consolidado - DRE'!B9-'Alea - DRE'!B9 -> -743.35126 | C9: ='Consolidado - DRE'!C9-'Alea - DRE'!C9 -> -709.54384 | D9: ='Consolidado - DRE'!D9-'Alea - DRE'!D9 -> -2540.2 | E9: ='Consolidado - DRE'!E9-'Alea - DRE'!E9 -> -719.6 | F9: ='Consolidado - DRE'!F9-'Alea - DRE'!F9 -> -699.8853 | G9: ='Consolidado - DRE'!G9-'Alea - DRE'!G9 -> -599.99194 | H9: ='Consolidado - DRE'!H9-'Alea - DRE'!H9 -> -520.62086 | I9: ='Consolidado - DRE'!I9-'Alea - DRE'!I9 -> -2153.8248 | ... BZ9: ='Consolidado - DRE'!BZ9-'Alea - DRE'!BZ9 -> -224.2
A10: Lucro Bruto | B10: ='Consolidado - DRE'!B10-'Alea - DRE'!B10 -> 461.59135 | C10: ='Consolidado - DRE'!C10-'Alea - DRE'!C10 -> 402.37948 | D10: ='Consolidado - DRE'!D10-'Alea - DRE'!D10 -> 1279.8 | E10: ='Consolidado - DRE'!E10-'Alea - DRE'!E10 -> 380.2 | F10: ='Consolidado - DRE'!F10-'Alea - DRE'!F10 -> 339.97175 | G10: ='Consolidado - DRE'!G10-'Alea - DRE'!G10 -> 292.29396 | H10: ='Consolidado - DRE'!H10-'Alea - DRE'!H10 -> 267.36438 | I10: ='Consolidado - DRE'!I10-'Alea - DRE'!I10 -> 869.29686 | ... BZ10: ='Consolidado - DRE'!BZ10-'Alea - DRE'!BZ10 -> 9.8
A11: Lucro Bruto Ajustado¹ | B11: ='Consolidado - DRE'!B11-'Alea - DRE'!B11 -> 480.85556 | C11: ='Consolidado - DRE'!C11-'Alea - DRE'!C11 -> 421.51281 | D11: ='Consolidado - DRE'!D11-'Alea - DRE'!D11 -> 1356.2 | E11: ='Consolidado - DRE'!E11-'Alea - DRE'!E11 -> 398.5 | F11: ='Consolidado - DRE'!F11-'Alea - DRE'!F11 -> 358.79766 | G11: ='Consolidado - DRE'!G11-'Alea - DRE'!G11 -> 313.09999 | H11: ='Consolidado - DRE'!H11-'Alea - DRE'!H11 -> 285.76614 | I11: ='Consolidado - DRE'!I11-'Alea - DRE'!I11 -> 959.17088 | ... BZ11: ='Consolidado - DRE'!BZ11-'Alea - DRE'!BZ11 -> 12.9
A12: Margem Bruta | B12: =B10/B8 -> 0.38308161 | C12: =C10/C8 -> 0.361877 | D12: =D10/D8 -> 0.33502618 | E12: =E10/E8 -> 0.34569922 | F12: =F10/F8 -> 0.32694085 | G12: =G10/G8 -> 0.32757882 | H12: =H10/H8 -> 0.33930125 | I12: =I10/I8 -> 0.28754942 | ... P12: =P10/P8 -> 0.22481583 | Q12: 0.20432669 | R12: 0.22429585 | S12: 0.12989578 | T12: 0.12944053 | U12: 0.067366438 | V12: 0.13205406 | W12: 0.19047423 | X12: 0.18602295 | Y12: -0.097969096 | Z12: 0.21510429 | AA12: 0.26651833 | AB12: 0.29675643 | AC12: 0.31123714 | AD12: 0.30539985 | AE12: 0.32280066 | AF12: 0.30742197 | AG12: 0.30749233 | AH12: 0.33232945 | AI12: 0.31866068 | AJ12: 0.33043617 | AK12: 0.34028285 | AL12: 0.34331589 | AM12: 0.34844824 | AN12: 0.35922206 | AO12: 0.33591422 | AP12: 0.36040434 | AQ12: 0.33783426 | AR12: 0.34510319 | AS12: 0.3547735 | AT12: 0.3626913 | AU12: 0.3289738 | AV12: 0.33051831 | AW12: 0.30683189 | AX12: 0.33433598 | AY12: 0.33614408 | AZ12: 0.25851892 | BA12: 0.29309066 | BB12: 0.28835365 | BC12: 0.28362553 | BD12: 0.3041614 | BE12: 0.28080876 | BF12: 0.28450817 | BG12: 0.22080619 | BH12: 0.31284856 | BI12: 0.17163687 | BJ12: 0.25869446 | BK12: 0.079829355 | BL12: 0.07981308 | BM12: 0.22136186 | BN12: 0.038627333 | BO12: 0.074047669 | BP12: -0.068605853 | BQ12: 0.12201177 | BR12: 0.046431682 | BS12: 0.15670599 | BT12: 0.19801897 | BU12: 0.064853699 | BV12: -0.64161744 | BW12: 0.8974375 | BX12: -0.1122224 | BY12: 0.11832597 | BZ12: 0.04169088
A13: Margem Bruta Ajustada | B13: =B11/B8 -> 0.39906926 | C13: =C11/C8 -> 0.37908442 | D13: =D11/D8 -> 0.35502618 | E13: =E11/E8 -> 0.36233861 | F13: =F11/F8 -> 0.34504518 | G13: =G11/G8 -> 0.35089648 | H13: =H11/H8 -> 0.36265418 | I13: =I11/I8 -> 0.3172783 | ... BZ13: =BZ11/BZ8 -> 0.055128205
A14: Despesas Operacionais | B14: ='Consolidado - DRE'!B14-'Alea - DRE'!B14 -> -215.30473 | C14: ='Consolidado - DRE'!C14-'Alea - DRE'!C14 -> -171.04993 | D14: ='Consolidado - DRE'!D14-'Alea - DRE'!D14 -> -621 | E14: ='Consolidado - DRE'!E14-'Alea - DRE'!E14 -> -175.1 | F14: ='Consolidado - DRE'!F14-'Alea - DRE'!F14 -> -162.53043 | G14: ='Consolidado - DRE'!G14-'Alea - DRE'!G14 -> -147.31852 | H14: ='Consolidado - DRE'!H14-'Alea - DRE'!H14 -> -135.98679 | I14: ='Consolidado - DRE'!I14-'Alea - DRE'!I14 -> -505.07098 | ... BZ14: ='Consolidado - DRE'!BZ14-'Alea - DRE'!BZ14 -> -58.349
A15: Despesas com Vendas | B15: ='Consolidado - DRE'!B15-'Alea - DRE'!B15 -> -87.10693 | C15: ='Consolidado - DRE'!C15-'Alea - DRE'!C15 -> -79.351878 | D15: ='Consolidado - DRE'!D15-'Alea - DRE'!D15 -> -292.4 | E15: ='Consolidado - DRE'!E15-'Alea - DRE'!E15 -> -87 | F15: ='Consolidado - DRE'!F15-'Alea - DRE'!F15 -> -77.425096 | G15: ='Consolidado - DRE'!G15-'Alea - DRE'!G15 -> -68.98124 | H15: ='Consolidado - DRE'!H15-'Alea - DRE'!H15 -> -59.055441 | I15: ='Consolidado - DRE'!I15-'Alea - DRE'!I15 -> -252.08961 | ... BZ15: ='Consolidado - DRE'!BZ15-'Alea - DRE'!BZ15 -> -24
A16: Desp. Gerais e Administrativas | B16: ='Consolidado - DRE'!B16-'Alea - DRE'!B16 -> -91.27248 | C16: ='Consolidado - DRE'!C16-'Alea - DRE'!C16 -> -69.966122 | D16: ='Consolidado - DRE'!D16-'Alea - DRE'!D16 -> -231.1 | E16: ='Consolidado - DRE'!E16-'Alea - DRE'!E16 -> -57.4 | F16: ='Consolidado - DRE'!F16-'Alea - DRE'!F16 -> -58.434558 | G16: ='Consolidado - DRE'!G16-'Alea - DRE'!G16 -> -64.383407 | H16: ='Consolidado - DRE'!H16-'Alea - DRE'!H16 -> -50.897821 | I16: ='Consolidado - DRE'!I16-'Alea - DRE'!I16 -> -183.46018 | ... BZ16: ='Consolidado - DRE'!BZ16-'Alea - DRE'!BZ16 -> -23.3
A17: Outras Desp. e Rec. Operacionais | B17: ='Consolidado - DRE'!B17-'Alea - DRE'!B17 -> -29.677487 | C17: ='Consolidado - DRE'!C17-'Alea - DRE'!C17 -> -15.883221 | D17: ='Consolidado - DRE'!D17-'Alea - DRE'!D17 -> -79.531684 | E17: ='Consolidado - DRE'!E17-'Alea - DRE'!E17 -> -28.796664 | F17: ='Consolidado - DRE'!F17-'Alea - DRE'!F17 -> -24.392 | G17: ='Consolidado - DRE'!G17-'Alea - DRE'!G17 -> -4.976 | H17: ='Consolidado - DRE'!H17-'Alea - DRE'!H17 -> -21.324 | I17: ='Consolidado - DRE'!I17-'Alea - DRE'!I17 -> -46.33 | ... BZ17: ='Consolidado - DRE'!BZ17-'Alea - DRE'!BZ17 -> -4.063
A18: Depreciação e Amortização | B18: ='Consolidado - DRE'!B18-'Alea - DRE'!B18 -> -13.03453 | C18: ='Consolidado - DRE'!C18-'Alea - DRE'!C18 -> -10.526446 | D18: ='Consolidado - DRE'!D18-'Alea - DRE'!D18 -> -41.6 | E18: ='Consolidado - DRE'!E18-'Alea - DRE'!E18 -> -9.1 | F18: ='Consolidado - DRE'!F18-'Alea - DRE'!F18 -> -11.924164 | G18: ='Consolidado - DRE'!G18-'Alea - DRE'!G18 -> -10.864571 | H18: ='Consolidado - DRE'!H18-'Alea - DRE'!H18 -> -9.7466855 | I18: ='Consolidado - DRE'!I18-'Alea - DRE'!I18 -> -39.651477 | ... BZ18: ='Consolidado - DRE'!BZ18-'Alea - DRE'!BZ18 -> -3.7
A19: Equivalência Patrimonial | B19: ='Consolidado - DRE'!B19-'Alea - DRE'!B19 -> 5.152 | C19: ='Consolidado - DRE'!C19-'Alea - DRE'!C19 -> 4.533 | D19: ='Consolidado - DRE'!D19-'Alea - DRE'!D19 -> 25.3 | E19: ='Consolidado - DRE'!E19-'Alea - DRE'!E19 -> 7.6 | F19: ='Consolidado - DRE'!F19-'Alea - DRE'!F19 -> 9.212 | G19: ='Consolidado - DRE'!G19-'Alea - DRE'!G19 -> 3.649 | H19: ='Consolidado - DRE'!H19-'Alea - DRE'!H19 -> 4.917 | I19: ='Consolidado - DRE'!I19-'Alea - DRE'!I19 -> 16.699 | ... BZ19: ='Consolidado - DRE'!BZ19-'Alea - DRE'!BZ19 -> -3.3
A20: Lucro Operacional | B20: ='Consolidado - DRE'!B20-'Alea - DRE'!B20 -> 246.84909 | C20: ='Consolidado - DRE'!C20-'Alea - DRE'!C20 -> 232.8131 | D20: ='Consolidado - DRE'!D20-'Alea - DRE'!D20 -> 663.4 | E20: ='Consolidado - DRE'!E20-'Alea - DRE'!E20 -> 205.1 | F20: ='Consolidado - DRE'!F20-'Alea - DRE'!F20 -> 177.44132 | G20: ='Consolidado - DRE'!G20-'Alea - DRE'!G20 -> 144.97544 | H20: ='Consolidado - DRE'!H20-'Alea - DRE'!H20 -> 131.37758 | I20: ='Consolidado - DRE'!I20-'Alea - DRE'!I20 -> 364.22588 | ... BZ20: ='Consolidado - DRE'!BZ20-'Alea - DRE'!BZ20 -> -48.549
A21: Receita Financeira | B21: ='Consolidado - DRE'!B21-'Alea - DRE'!B21 -> 52.144877 | C21: ='Consolidado - DRE'!C21-'Alea - DRE'!C21 -> 66.602302 | D21: ='Consolidado - DRE'!D21-'Alea - DRE'!D21 -> 243.8 | E21: ='Consolidado - DRE'!E21-'Alea - DRE'!E21 -> 39.9 | F21: ='Consolidado - DRE'!F21-'Alea - DRE'!F21 -> 27.421441 | G21: ='Consolidado - DRE'!G21-'Alea - DRE'!G21 -> 15.92505 | H21: ='Consolidado - DRE'!H21-'Alea - DRE'!H21 -> 13.76678 | I21: ='Consolidado - DRE'!I21-'Alea - DRE'!I21 -> 64.412857 | ... BZ21: ='Consolidado - DRE'!BZ21-'Alea - DRE'!BZ21 -> 6.3
A22: Despesa Financeira | B22: ='Consolidado - DRE'!B22-'Alea - DRE'!B22 -> -73.604943 | C22: ='Consolidado - DRE'!C22-'Alea - DRE'!C22 -> -67.946835 | D22: ='Consolidado - DRE'!D22-'Alea - DRE'!D22 -> -232.5 | E22: ='Consolidado - DRE'!E22-'Alea - DRE'!E22 -> -81 | F22: ='Consolidado - DRE'!F22-'Alea - DRE'!F22 -> -49.117462 | G22: ='Consolidado - DRE'!G22-'Alea - DRE'!G22 -> 78.790825 | H22: ='Consolidado - DRE'!H22-'Alea - DRE'!H22 -> -34.44689 | I22: ='Consolidado - DRE'!I22-'Alea - DRE'!I22 -> -234.23735 | ... BZ22: ='Consolidado - DRE'!BZ22-'Alea - DRE'!BZ22 -> -4.1
A23: Lucro Líquido antes de IR & CSLL | B23: ='Consolidado - DRE'!B23-'Alea - DRE'!B23 -> 225.38903 | C23: ='Consolidado - DRE'!C23-'Alea - DRE'!C23 -> 231.46857 | D23: ='Consolidado - DRE'!D23-'Alea - DRE'!D23 -> 674.7 | E23: ='Consolidado - DRE'!E23-'Alea - DRE'!E23 -> 164 | F23: ='Consolidado - DRE'!F23-'Alea - DRE'!F23 -> 155.7453 | G23: ='Consolidado - DRE'!G23-'Alea - DRE'!G23 -> 239.69131 | H23: ='Consolidado - DRE'!H23-'Alea - DRE'!H23 -> 110.69747 | I23: ='Consolidado - DRE'!I23-'Alea - DRE'!I23 -> 194.40138 | ... BZ23: ='Consolidado - DRE'!BZ23-'Alea - DRE'!BZ23 -> -46.349
A24: Impostos Diferidos | B24: ='Consolidado - DRE'!B24-'Alea - DRE'!B24 -> -1.4947249 | C24: ='Consolidado - DRE'!C24-'Alea - DRE'!C24 -> -3.6596485 | D24: ='Consolidado - DRE'!D24-'Alea - DRE'!D24 -> -3.1 | E24: ='Consolidado - DRE'!E24-'Alea - DRE'!E24 -> -0.8 | F24: ='Consolidado - DRE'!F24-'Alea - DRE'!F24 -> -0.326 | G24: ='Consolidado - DRE'!G24-'Alea - DRE'!G24 -> -2.717 | H24: ='Consolidado - DRE'!H24-'Alea - DRE'!H24 -> 0.8 | I24: ='Consolidado - DRE'!I24-'Alea - DRE'!I24 -> 5.179 | ... BZ24: ='Consolidado - DRE'!BZ24-'Alea - DRE'!BZ24 -> 22.388
A25: IR & CSLL | B25: ='Consolidado - DRE'!B25-'Alea - DRE'!B25 -> -14.934189 | C25: ='Consolidado - DRE'!C25-'Alea - DRE'!C25 -> -11.598371 | D25: ='Consolidado - DRE'!D25-'Alea - DRE'!D25 -> -35.5 | E25: ='Consolidado - DRE'!E25-'Alea - DRE'!E25 -> -9.8 | F25: ='Consolidado - DRE'!F25-'Alea - DRE'!F25 -> -10.287 | G25: ='Consolidado - DRE'!G25-'Alea - DRE'!G25 -> -8.334 | H25: ='Consolidado - DRE'!H25-'Alea - DRE'!H25 -> -7.177 | I25: ='Consolidado - DRE'!I25-'Alea - DRE'!I25 -> -28.75 | ... BZ25: ='Consolidado - DRE'!BZ25-'Alea - DRE'!BZ25 -> -2.188
... A29: Lucro Líquido Ajustado² | B29: ='Consolidado - DRE'!B29-'Alea - DRE'!B29 -> 228.2211 | C29: ='Consolidado - DRE'!C29-'Alea - DRE'!C29 -> 235.35294 | D29: ='Consolidado - DRE'!D29-'Alea - DRE'!D29 -> 712.4 | E29: ='Consolidado - DRE'!E29-'Alea - DRE'!E29 -> 173 | F29: ='Consolidado - DRE'!F29-'Alea - DRE'!F29 -> 165.25993 | G29: ='Consolidado - DRE'!G29-'Alea - DRE'!G29 -> 250.70496 | H29: ='Consolidado - DRE'!H29-'Alea - DRE'!H29 -> 123.27254 | I29: ='Consolidado - DRE'!I29-'Alea - DRE'!I29 -> 268.93951 | ... BZ29: ='Consolidado - DRE'!BZ29-'Alea - DRE'!BZ29 -> -23
A30: Margem Líquida | B30: =B28/B8 -> 0.1734165 | C30: =C28/C8 -> 0.19445338 | D30: =D28/D8 -> 0.16651832 | E30: =E28/E8 -> 0.14075286 | F30: =F28/F8 -> 0.14082128 | G30: =G28/G8 -> 0.25765165 | H30: =H28/H8 -> 0.13308669 | I30: =I28/I8 -> 0.05899817 | ... BZ30: =BZ28/BZ8 -> -0.11196581
A31: Margem Líquida Ajustada² | B31: =B29/B8 -> 0.18940412 | C31: =C29/C8 -> 0.21166292 | D31: =D29/D8 -> 0.18649215 | E31: =E29/E8 -> 0.15730133 | F31: =F29/F8 -> 0.15892563 | G31: =G29/G8 -> 0.28096931 | H31: =H29/H8 -> 0.15644016 | I31: =I29/I8 -> 0.088960862 | ... BZ31: =BZ29/BZ8 -> -0.098290598
A32: 1) Ajustado por juros capitalizados.
A33: 2) Ajustado por juros capitalizados e minoritários.
A36: Relações com Investidores
A37: E-mail: ri@tenda.com
A38: Website: ri.tenda.com
A40: Luiz Mauricio de Garcia
A41: CFO e Diretor Executivo de Relações com Investidores
A43: Marilia Leite
A44: Gerente de Relações com Investidores
A46: Leonardo Dias Wanderley
A47: Coordenador de Relações com Investidores
A49: Felipe Chiavegato Stella
A50: Analista de Relações com Investidores

Sheet Alea - Operacional
A6: DESTAQUES OPERACIONAIS
A7: (em R$ milhões) | B7: 2T26 | C7: 1T26 | D7: 2025 | E7: 4T25 | F7: 3T25 | G7: 2T25 | H7: 1T25 | I7: 2024 | J7: 4T24 | K7: 3T24 | L7: 2T24 | M7: 1T24 | N7: 2023 | O7: 4T23 | P7: 3T23 | Q7: 2T23 | R7: 1T23 | S7: 2022 | T7: 4T22 | U7: 3T22 | V7: 2T22 | W7: 1T22 | X7: 2021 | Y7: 4T21 | Z7: 3T21 | AA7: 2T21 | AB7: 1T21
A8: Destaques Operacionais (R$ milhões, VGV)
A9: Lançamentos | B9: 85.5053 | C9: 47.367054 | D9: 262.80907 | E9: 69.390156 | F9: 76.208171 | G9: 21.220864 | H9: 95.989878 | I9: 555.6129 | J9: 245.92009 | K9: 111.99573 | L9: 109.96966 | M9: 87.72742 | N9: 365.18316 | O9: 157.00288 | P9: 132.58328 | Q9: 32.284 | R9: 43.313 | S9: 63.2661 | T9: 49.7891 | U9: 0 | V9: 13.477 | W9: 0 | X9: 62.74176 | Y9: 36.304872 | Z9: 10.252425 | AA9: 16.184463 | AB9: 0
A10: Vendas Líquidas | B10: 84.232724 | C10: 105.05324 | D10: 499.44228 | E10: 120.94968 | F10: 133.96643 | G10: 144.61138 | H10: 99.914783 | I10: 339.78851 | J10: 58.412277 | K10: 88.88576 | L10: 111.7898 | M10: 80.700668 | N10: 142.76698 | O10: 54.888937 | P10: 50.893064 | Q10: 26.25764 | R10: 10.727341 | S10: 79.39221 | T10: 16.719957 | U10: 24.721082 | V10: 19.129402 | W10: 18.82177 | X10: 27.692978 | Y10: 17.43135 | Z10: 6.3070752 | AA10: 3.9545526 | AB10: 0
A11: VSO Líquida (%) | B11: 0.36498819 | C11: 0.41631194 | D11: 0.71718598 | E11: 0.38046577 | F11: 0.3539696 | G11: 0.31315991 | H11: 0.18047478 | I11: 0.422958 | J11: 0.1119039 | K11: 0.24292057 | L11: 0.30724697 | M11: 0.23857805 | N11: 0.369 | O11: 0.184 | P11: 0.248 | Q11: 0.26015528 | R11: 0.13252573 | S11: 0.687 | T11: 0.3159958 | U11: 0.9305855 | V11: 0.44534204 | W11: 0.45842161 | X11: 0.403 | Y11: 0.29860784 | Z11: 0.23656427 | AA11: 0.26174927 | AB11: 0
A12: Unidades Entregues (#) | B12: 322 | C12: 839 | D12: 1316 | E12: 407 | F12: 542 | G12: 195 | H12: 172 | I12: 866 | J12: 264 | K12: 384 | L12: 218 | M12: 0 | N12: 243 | O12: 168 | P12: 0 | Q12: 75 | R12: 0 | S12: 99 | T12: 0 | U12: 0 | V12: 49 | W12: 50 | X12: 0 | Y12: 0 | Z12: 0 | AA12: 0 | AB12: 0
A13: Banco de Terrenos | B13: 6099.9828 | C13: 6073.2083 | D13: 6076.1806 | E13: 6076.1806 | F13: 5481.0679 | G13: 5639.0168 | H13: 5142.1873 | I13: 4838.4599 | J13: 4838.4599 | K13: 4488.5166 | L13: 4212.2632 | M13: 3321.0261 | N13: 3084.9033 | O13: 3084.9033 | P13: 2929.6834 | Q13: 2521.9429 | R13: 1665.3082 | S13: 1263.668 | T13: 1263.668 | U13: 832.44856 | V13: 638.14452 | W13: 499.008 | X13: 0 | Y13: 0 | Z13: 79.5156 | AA13: 47.3786 | AB13: 63.563063
A14: Estoque a Valor de Mercado | B14: 146.54933 | C14: 147.28937 | D14: 196.94931 | E14: 196.94931 | F14: 244.50232 | G14: 317.16988 | H14: 453.70707 | I14: 463.57379 | J14: 463.57379 | K14: 277.01887 | L14: 252.05366 | M14: 257.55621 | N14: 243.87721 | O14: 243.87721 | P14: 154.011 | Q14: 74.673001 | R14: 70.218001 | S14: 36.192002 | T14: 36.192002 | U14: 1.8440019 | V14: 23.825002 | W14: 22.236002 | X14: 40.944044 | Y14: 40.944044 | Z14: 20.354074 | AA14: 11.153618 | AB14: 0
A16: LANÇAMENTOS¹
A17: Lançamentos¹ | B17: 2T26 | C17: 1T26 | D17: 2025 | E17: 4T25 | F17: 3T25 | G17: =G7 -> 2T25 | H17: =H7 -> 1T25 | I17: =I7 -> 2024 | J17: =J7 -> 4T24 | K17: =K7 -> 3T24 | L17: =L7 -> 2T24 | M17: =M7 -> 1T24 | N17: =N7 -> 2023 | ... AB17: =AB7 -> 1T21
A18: Número de Empreendimentos | B18: 3 | C18: 2 | D18: 7 | E18: 1 | F18: 2 | G18: 1 | H18: 3 | I18: 22 | J18: 9 | K18: 4 | L18: 5 | M18: 4 | N18: 21 | O18: 8 | P18: 6 | Q18: 4 | R18: 3 | S18: 3 | T18: 2 | U18: 0 | V18: 1 | W18: 0 | X18: 5 | Y18: 2 | Z18: 1 | AA18: 2 | AB18: 0
A19: VGV (R$ milhões) | B19: =B9 -> 85.5053 | C19: =C9 -> 47.367054 | D19: =D9 -> 262.80907 | E19: =E9 -> 69.390156 | F19: =F9 -> 76.208171 | G19: =G9 -> 21.220864 | H19: =H9 -> 95.989878 | I19: =I9 -> 555.6129 | ... AB19: =AB9 -> 0
A20: Número de unidades | B20: 384 | C20: 261 | D20: 1256 | E20: 348 | F20: 387 | G20: 112 | H20: 409 | I20: 2920 | J20: 1301 | K20: 570 | L20: 562 | M20: 487 | N20: 2116 | O20: 911 | P20: 743 | Q20: 197 | R20: 265 | S20: 403 | T20: 299 | U20: 0 | V20: 104 | W20: 0 | X20: 423 | Y20: 249 | Z20: 75 | AA20: 99 | AB20: 0
A21: Preço médio por unidade (R$ mil) | B21: 222.67005 | C21: 181.48297 | D21: 209.24289 | E21: 199.397 | F21: 196.92034 | G21: 189.472 | H21: 234.69408 | I21: 190.27839 | J21: 189.0239 | K21: 196.48374 | L21: 195.67554 | M21: 180.13844 | N21: 172.58183 | O21: 172.34125 | P21: 178.44317 | Q21: 163.87817 | R21: 163.44528 | S21: 0.15698784 | T21: 166.51873 | U21: 0 | V21: 129.58654 | W21: 0 | X21: 0.14832567 | Y21: 145.8027 | Z21: 136.699 | AA21: 163.47942 | AB21: 0
A22: Tamanho médio dos lançamentos (em unidades) | B22: 128 | C22: 130.5 | D22: 179.42857 | E22: 348 | F22: 193.5 | G22: 112 | H22: 136.33333 | I22: 132.72727 | J22: 118.27273 | K22: 142.5 | L22: 112 | M22: 121.25 | N22: 101 | O22: 113.875 | P22: 82.555556 | Q22: 49.25 | R22: 88.333333 | S22: 134.33333 | T22: 149.5 | U22: 0 | V22: 104 | W22: 0 | X22: 84.6 | Y22: 124.5 | Z22: 75 | AA22: 19.8 | AB22: 0
A23: 1) Os projetos lançados no Novo Modelo de negócios possuem 100% de participação societária da Tenda.
A25: VENDAS E DISTRATOS
A26: (VGV, R$ milhões) | B26: 2T26 | C26: 1T26 | D26: 2025 | E26: 4T25 | F26: 3T25 | G26: =G7 -> 2T25 | H26: =H7 -> 1T25 | I26: =I7 -> 2024 | J26: =J7 -> 4T24 | K26: =K7 -> 3T24 | L26: =L7 -> 2T24 | M26: =M7 -> 1T24 | N26: =N7 -> 2023 | ... AB26: =AB7 -> 1T21
A27: Vendas Brutas | B27: 102.44459 | C27: 121.59902 | D27: 643.67877 | E27: 170.07541 | F27: 173.70571 | G27: 180.69523 | H27: 119.20242 | I27: 416.47736 | J27: 82.904008 | K27: 104.32894 | L27: 124.99135 | M27: 104.25307 | N27: 163.85863 | O27: 65.586301 | P27: 57.052352 | Q27: 29.136639 | R27: 12.083341 | S27: 81.740036 | T27: 19.067782 | U27: 24.721082 | V27: 19.129402 | W27: 18.82177 | X27: 28.402717 | Y27: 17.657603 | Z27: 6.7905621 | AA27: 3.9545526 | AB27: 0
A28: VSO Bruto | B28: 0.444 | C28: 0.482 | D28: 0.924 | E28: 0.535 | F28: 0.459 | G28: 0.391 | H28: 0.215 | I28: 0.518 | J28: 0.159 | K28: 0.285 | L28: 0.344 | M28: 0.30820724 | N28: 0.424 | O28: 0.22 | P28: 0.278 | Q28: 0.28867982 | R28: 0.14927778 | S28: 0.707 | T28: 0.36036811 | U28: 0.9305855 | V28: 0.44534204 | W28: 0.45842161 | X28: 0.414 | Y28: 0.30248366 | Z28: 0.25469878 | AA28: 0.26174927 | AB28: 0
A29: Distratos | B29: 18.211864 | C29: 16.545777 | D29: 144.23649 | E29: 49.125723 | F29: 39.739278 | G29: 36.083848 | H29: 19.287641 | I29: 76.688858 | J29: 24.491731 | K29: 15.443181 | L29: 13.201548 | M29: 23.552398 | N29: 21.091652 | O29: 10.697364 | P29: 6.1592877 | Q29: 2.8789994 | R29: 1.3560004 | S29: 2.3478258 | T29: 2.3478258 | U29: 0 | V29: 0 | W29: 0 | X29: 0.70973953 | Y29: 0.22625265 | Z29: 0.48348688 | AA29: 0 | AB29: 0
